BEGIN:VCALENDAR
VERSION:2.0
PRODID:GlueUp
CALSCALE:GREGORIAN
BEGIN:VTIMEZONE
TZID:UTC
BEGIN:STANDARD
DTSTART:19700101T000000
TZOFFSETFROM:+0000
TZOFFSETTO:+0000
TZNAME:UTC
END:STANDARD
END:VTIMEZONE
BEGIN:VEVENT
TZ:+00
ORGANIZER;CN=Мехоношина Татьяна:MAILTO:tatyana@eventbank.com
UID:4227-1776808817@https://eventbankdemo.glueup.ru
DTSTAMP:20260421T220017Z
DTSTART:20240531T070000Z
DTEND:20240531T110000Z
SUMMARY:1111
DESCRIPTION:"1&nbsp;111" организовано "Glue Up Демо"\n\nМай 31 2024 (10:00 - 14:00)(GMT+3)\n\nДля получения дополнительной информации нажмите здесь: https://eventbankdemo.glueup.ru/my/events/4227
LOCATION:
BEGIN:VALARM
TRIGGER:-PT48H
REPEAT:4
DURATION:PT30M
ACTION:DISPLAY
END:VALARM
END:VEVENT
END:VCALENDAR