BEGIN:VCALENDAR
VERSION:2.0
PRODID:GlueUp
CALSCALE:GREGORIAN
BEGIN:VTIMEZONE
TZID:UTC
BEGIN:STANDARD
DTSTART:19700101T000000
TZOFFSETFROM:+0000
TZOFFSETTO:+0000
TZNAME:UTC
END:STANDARD
END:VTIMEZONE
BEGIN:VEVENT
TZ:+00
ORGANIZER;CN=Берсенев Алексей:MAILTO:bersenev@eventbank.com
UID:3738-1776809104@https://eventbankdemo.glueup.ru
DTSTAMP:20260421T220504Z
DTSTART:20231123T210001Z
DTEND:20240830T210001Z
SUMMARY:Glue UP AI
DESCRIPTION:"Glue UP AI" организовано "Glue Up Демо"\n\nНоя 24, 2023 - 31 Авг, 2024(GMT+3)\n\nДля получения дополнительной информации нажмите здесь: https://eventbankdemo.glueup.ru/my/events/3738
LOCATION:
BEGIN:VALARM
TRIGGER:-PT48H
REPEAT:4
DURATION:PT30M
ACTION:DISPLAY
END:VALARM
END:VEVENT
END:VCALENDAR